Package: davidTiling Version: 1.48.0 Command: /home/biocbuild/bbs-3.21-bioc/R/bin/R CMD INSTALL davidTiling StartedAt: 2025-10-02 10:57:39 -0400 (Thu, 02 Oct 2025) EndedAt: 2025-10-02 10:58:32 -0400 (Thu, 02 Oct 2025) EllapsedTime: 52.7 seconds RetCode: 0 Status: OK