Package: davidTiling Version: 1.48.0 Command: /home/biocbuild/bbs-3.21-bioc/R/bin/R CMD check --install=check:davidTiling.install-out.txt --library=/home/biocbuild/bbs-3.21-bioc/R/site-library --timings davidTiling_1.48.0.tar.gz StartedAt: 2025-10-02 12:09:24 -0400 (Thu, 02 Oct 2025) EndedAt: 2025-10-02 12:13:36 -0400 (Thu, 02 Oct 2025) EllapsedTime: 252.2 seconds RetCode: 0 Status: WARNINGS CheckDir: davidTiling.Rcheck Warnings: 1