Package: crisprScoreData Version: 1.12.0 Command: /home/biocbuild/bbs-3.21-bioc/R/bin/R CMD check --install=check:crisprScoreData.install-out.txt --library=/home/biocbuild/bbs-3.21-bioc/R/site-library --timings crisprScoreData_1.12.0.tar.gz StartedAt: 2025-10-16 12:06:43 -0400 (Thu, 16 Oct 2025) EndedAt: 2025-10-16 12:08:39 -0400 (Thu, 16 Oct 2025) EllapsedTime: 116.5 seconds RetCode: 0 Status: OK CheckDir: crisprScoreData.Rcheck Warnings: 0