Package: chromstaRData Version: 1.34.0 Command: /home/biocbuild/bbs-3.21-bioc/R/bin/R CMD check --install=check:chromstaRData.install-out.txt --library=/home/biocbuild/bbs-3.21-bioc/R/site-library --timings chromstaRData_1.34.0.tar.gz StartedAt: 2025-10-14 12:04:06 -0400 (Tue, 14 Oct 2025) EndedAt: 2025-10-14 12:04:25 -0400 (Tue, 14 Oct 2025) EllapsedTime: 19.3 seconds RetCode: 0 Status: WARNINGS CheckDir: chromstaRData.Rcheck Warnings: 1