Package: celldex Version: 1.18.0 Command: /home/biocbuild/bbs-3.21-bioc/R/bin/R CMD check --install=check:celldex.install-out.txt --library=/home/biocbuild/bbs-3.21-bioc/R/site-library --timings celldex_1.18.0.tar.gz StartedAt: 2025-10-16 12:02:15 -0400 (Thu, 16 Oct 2025) EndedAt: 2025-10-16 12:07:32 -0400 (Thu, 16 Oct 2025) EllapsedTime: 317.3 seconds RetCode: 0 Status: OK CheckDir: celldex.Rcheck Warnings: 0