Package: brgedata Version: 1.30.0 Command: /home/biocbuild/bbs-3.21-bioc/R/bin/R CMD INSTALL brgedata StartedAt: 2025-10-16 10:58:52 -0400 (Thu, 16 Oct 2025) EndedAt: 2025-10-16 10:59:57 -0400 (Thu, 16 Oct 2025) EllapsedTime: 64.9 seconds RetCode: 0 Status: OK