Package: antiProfilesData Version: 1.44.0 Command: /home/biocbuild/bbs-3.21-bioc/R/bin/R CMD INSTALL antiProfilesData StartedAt: 2025-10-02 10:56:14 -0400 (Thu, 02 Oct 2025) EndedAt: 2025-10-02 10:56:16 -0400 (Thu, 02 Oct 2025) EllapsedTime: 1.9 seconds RetCode: 0 Status: OK