Package: affycompData Version: 1.46.0 Command: /home/biocbuild/bbs-3.21-bioc/R/bin/R CMD INSTALL affycompData StartedAt: 2025-10-02 10:56:25 -0400 (Thu, 02 Oct 2025) EndedAt: 2025-10-02 10:56:30 -0400 (Thu, 02 Oct 2025) EllapsedTime: 5.4 seconds RetCode: 0 Status: OK