Package: XhybCasneuf Version: 1.46.0 Command: /home/biocbuild/bbs-3.21-bioc/R/bin/R CMD INSTALL XhybCasneuf StartedAt: 2025-10-16 10:57:27 -0400 (Thu, 16 Oct 2025) EndedAt: 2025-10-16 10:57:39 -0400 (Thu, 16 Oct 2025) EllapsedTime: 12.3 seconds RetCode: 0 Status: OK