Package: TMExplorer Version: 1.18.0 Command: /home/biocbuild/bbs-3.21-bioc/R/bin/R CMD check --install=check:TMExplorer.install-out.txt --library=/home/biocbuild/bbs-3.21-bioc/R/site-library --timings TMExplorer_1.18.0.tar.gz StartedAt: 2025-10-16 13:07:16 -0400 (Thu, 16 Oct 2025) EndedAt: 2025-10-16 13:12:02 -0400 (Thu, 16 Oct 2025) EllapsedTime: 285.8 seconds RetCode: 1 Status: ERROR CheckDir: TMExplorer.Rcheck Warnings: NA