Package: TENET.ExperimentHub Version: 1.0.0 Command: /home/biocbuild/bbs-3.21-bioc/R/bin/R CMD INSTALL TENET.ExperimentHub StartedAt: 2025-10-02 11:00:20 -0400 (Thu, 02 Oct 2025) EndedAt: 2025-10-02 11:00:40 -0400 (Thu, 02 Oct 2025) EllapsedTime: 19.8 seconds RetCode: 0 Status: OK