Package: TENET.ExperimentHub Version: 1.0.0 Command: /home/biocbuild/bbs-3.21-bioc/R/bin/R CMD build --keep-empty-dirs --no-resave-data TENET.ExperimentHub StartedAt: 2025-10-02 11:42:56 -0400 (Thu, 02 Oct 2025) EndedAt: 2025-10-02 11:43:46 -0400 (Thu, 02 Oct 2025) EllapsedTime: 49.9 seconds RetCode: 0 Status: OK PackageFile: TENET.ExperimentHub_1.0.0.tar.gz PackageFileSize: 244.6 KiB