Package: SpikeInSubset Version: 1.48.0 Command: /home/biocbuild/bbs-3.21-bioc/R/bin/R CMD check --install=check:SpikeInSubset.install-out.txt --library=/home/biocbuild/bbs-3.21-bioc/R/site-library --timings SpikeInSubset_1.48.0.tar.gz StartedAt: 2025-10-02 12:58:44 -0400 (Thu, 02 Oct 2025) EndedAt: 2025-10-02 13:00:12 -0400 (Thu, 02 Oct 2025) EllapsedTime: 88.2 seconds RetCode: 0 Status: WARNINGS CheckDir: SpikeInSubset.Rcheck Warnings: 3