Package: SFEData Version: 1.10.0 Command: /home/biocbuild/bbs-3.21-bioc/R/bin/R CMD INSTALL SFEData StartedAt: 2025-10-16 10:56:55 -0400 (Thu, 16 Oct 2025) EndedAt: 2025-10-16 10:57:08 -0400 (Thu, 16 Oct 2025) EllapsedTime: 12.7 seconds RetCode: 0 Status: OK