Package: SBGNview.data Version: 1.22.0 Command: /home/biocbuild/bbs-3.21-bioc/R/bin/R CMD INSTALL SBGNview.data StartedAt: 2025-10-16 10:57:52 -0400 (Thu, 16 Oct 2025) EndedAt: 2025-10-16 10:58:10 -0400 (Thu, 16 Oct 2025) EllapsedTime: 17.6 seconds RetCode: 0 Status: OK