Package: RnBeads.mm10 Version: 2.16.0 Command: /home/biocbuild/bbs-3.21-bioc/R/bin/R CMD check --install=check:RnBeads.mm10.install-out.txt --library=/home/biocbuild/bbs-3.21-bioc/R/site-library --timings RnBeads.mm10_2.16.0.tar.gz StartedAt: 2025-10-16 12:49:40 -0400 (Thu, 16 Oct 2025) EndedAt: 2025-10-16 12:51:54 -0400 (Thu, 16 Oct 2025) EllapsedTime: 134.1 seconds RetCode: 0 Status: OK CheckDir: RnBeads.mm10.Rcheck Warnings: 0