Package: RnBeads.hg19 Version: 1.40.0 Command: /home/biocbuild/bbs-3.21-bioc/R/bin/R CMD check --install=check:RnBeads.hg19.install-out.txt --library=/home/biocbuild/bbs-3.21-bioc/R/site-library --timings RnBeads.hg19_1.40.0.tar.gz StartedAt: 2025-10-09 12:50:29 -0400 (Thu, 09 Oct 2025) EndedAt: 2025-10-09 12:52:31 -0400 (Thu, 09 Oct 2025) EllapsedTime: 122.1 seconds RetCode: 0 Status: OK CheckDir: RnBeads.hg19.Rcheck Warnings: 0