Package: RTCGA.RPPA Version: 1.36.0 Command: /home/biocbuild/bbs-3.21-bioc/R/bin/R CMD check --install=check:RTCGA.RPPA.install-out.txt --library=/home/biocbuild/bbs-3.21-bioc/R/site-library --timings RTCGA.RPPA_1.36.0.tar.gz StartedAt: 2025-10-16 12:53:43 -0400 (Thu, 16 Oct 2025) EndedAt: 2025-10-16 12:54:56 -0400 (Thu, 16 Oct 2025) EllapsedTime: 72.6 seconds RetCode: 0 Status: WARNINGS CheckDir: RTCGA.RPPA.Rcheck Warnings: 1