Package: RRBSdata Version: 1.28.0 Command: /home/biocbuild/bbs-3.21-bioc/R/bin/R CMD INSTALL RRBSdata StartedAt: 2025-10-02 11:02:09 -0400 (Thu, 02 Oct 2025) EndedAt: 2025-10-02 11:02:32 -0400 (Thu, 02 Oct 2025) EllapsedTime: 23.2 seconds RetCode: 0 Status: OK