Package: RRBSdata Version: 1.28.0 Command: /home/biocbuild/bbs-3.21-bioc/R/bin/R CMD build --keep-empty-dirs --no-resave-data RRBSdata StartedAt: 2025-10-02 11:37:01 -0400 (Thu, 02 Oct 2025) EndedAt: 2025-10-02 11:37:42 -0400 (Thu, 02 Oct 2025) EllapsedTime: 40.7 seconds RetCode: 0 Status: OK PackageFile: RRBSdata_1.28.0.tar.gz PackageFileSize: 73.93 MiB