Package: RITANdata Version: 1.32.0 Command: /home/biocbuild/bbs-3.21-bioc/R/bin/R CMD build --keep-empty-dirs --no-resave-data RITANdata StartedAt: 2025-10-02 11:36:13 -0400 (Thu, 02 Oct 2025) EndedAt: 2025-10-02 11:36:49 -0400 (Thu, 02 Oct 2025) EllapsedTime: 36.0 seconds RetCode: 0 Status: OK PackageFile: RITANdata_1.32.0.tar.gz PackageFileSize: 7.415 MiB