Package: QUBICdata Version: 1.36.0 Command: /home/biocbuild/bbs-3.21-bioc/R/bin/R CMD build --keep-empty-dirs --no-resave-data QUBICdata StartedAt: 2025-10-02 11:34:54 -0400 (Thu, 02 Oct 2025) EndedAt: 2025-10-02 11:35:00 -0400 (Thu, 02 Oct 2025) EllapsedTime: 6.0 seconds RetCode: 0 Status: OK PackageFile: QUBICdata_1.36.0.tar.gz PackageFileSize: 9.848 MiB