Package: PhyloProfileData Version: 1.22.3 Command: /home/biocbuild/bbs-3.21-bioc/R/bin/R CMD INSTALL PhyloProfileData StartedAt: 2025-10-02 10:57:55 -0400 (Thu, 02 Oct 2025) EndedAt: 2025-10-02 10:58:08 -0400 (Thu, 02 Oct 2025) EllapsedTime: 13.0 seconds RetCode: 0 Status: OK