Package: PhyloProfileData Version: 1.22.3 Command: /home/biocbuild/bbs-3.21-bioc/R/bin/R CMD check --install=check:PhyloProfileData.install-out.txt --library=/home/biocbuild/bbs-3.21-bioc/R/site-library --timings PhyloProfileData_1.22.3.tar.gz StartedAt: 2025-10-09 12:45:07 -0400 (Thu, 09 Oct 2025) EndedAt: 2025-10-09 12:46:50 -0400 (Thu, 09 Oct 2025) EllapsedTime: 102.7 seconds RetCode: 0 Status: OK CheckDir: PhyloProfileData.Rcheck Warnings: 0