Package: PWMEnrich.Dmelanogaster.background Version: 4.42.0 Command: /home/biocbuild/bbs-3.21-bioc/R/bin/R CMD INSTALL PWMEnrich.Dmelanogaster.background StartedAt: 2025-10-16 10:56:48 -0400 (Thu, 16 Oct 2025) EndedAt: 2025-10-16 10:56:55 -0400 (Thu, 16 Oct 2025) EllapsedTime: 6.8 seconds RetCode: 0 Status: OK