Package: PREDAsampledata Version: 0.48.0 Command: /home/biocbuild/bbs-3.21-bioc/R/bin/R CMD INSTALL PREDAsampledata StartedAt: 2025-10-07 10:57:33 -0400 (Tue, 07 Oct 2025) EndedAt: 2025-10-07 10:57:56 -0400 (Tue, 07 Oct 2025) EllapsedTime: 23.8 seconds RetCode: 0 Status: OK