Package: PCHiCdata Version: 1.36.0 Command: /home/biocbuild/bbs-3.21-bioc/R/bin/R CMD build --keep-empty-dirs --no-resave-data PCHiCdata StartedAt: 2025-10-02 11:33:29 -0400 (Thu, 02 Oct 2025) EndedAt: 2025-10-02 11:35:18 -0400 (Thu, 02 Oct 2025) EllapsedTime: 108.7 seconds RetCode: 0 Status: OK PackageFile: PCHiCdata_1.36.0.tar.gz PackageFileSize: 183.3 MiB