Package: ObMiTi Version: 1.16.0 Command: /home/biocbuild/bbs-3.21-bioc/R/bin/R CMD check --install=check:ObMiTi.install-out.txt --library=/home/biocbuild/bbs-3.21-bioc/R/site-library --timings ObMiTi_1.16.0.tar.gz StartedAt: 2025-10-16 12:42:56 -0400 (Thu, 16 Oct 2025) EndedAt: 2025-10-16 12:45:58 -0400 (Thu, 16 Oct 2025) EllapsedTime: 182.0 seconds RetCode: 0 Status: OK CheckDir: ObMiTi.Rcheck Warnings: 0