Package: OMICsPCAdata Version: 1.26.0 Command: /home/biocbuild/bbs-3.21-bioc/R/bin/R CMD INSTALL OMICsPCAdata StartedAt: 2025-10-02 11:00:23 -0400 (Thu, 02 Oct 2025) EndedAt: 2025-10-02 11:01:04 -0400 (Thu, 02 Oct 2025) EllapsedTime: 41.4 seconds RetCode: 0 Status: OK