Package: OMICsPCAdata Version: 1.26.0 Command: /home/biocbuild/bbs-3.21-bioc/R/bin/R CMD build --keep-empty-dirs --no-resave-data OMICsPCAdata StartedAt: 2025-10-02 11:32:42 -0400 (Thu, 02 Oct 2025) EndedAt: 2025-10-02 11:33:40 -0400 (Thu, 02 Oct 2025) EllapsedTime: 58.2 seconds RetCode: 0 Status: OK PackageFile: OMICsPCAdata_1.26.0.tar.gz PackageFileSize: 42.44 MiB