Package: NxtIRFdata Version: 1.14.0 Command: /home/biocbuild/bbs-3.21-bioc/R/bin/R CMD INSTALL NxtIRFdata StartedAt: 2025-10-02 11:02:25 -0400 (Thu, 02 Oct 2025) EndedAt: 2025-10-02 11:02:27 -0400 (Thu, 02 Oct 2025) EllapsedTime: 2.0 seconds RetCode: 0 Status: OK