Package: NxtIRFdata Version: 1.14.0 Command: /home/biocbuild/bbs-3.21-bioc/R/bin/R CMD build --keep-empty-dirs --no-resave-data NxtIRFdata StartedAt: 2025-10-02 11:32:04 -0400 (Thu, 02 Oct 2025) EndedAt: 2025-10-02 11:32:27 -0400 (Thu, 02 Oct 2025) EllapsedTime: 22.4 seconds RetCode: 0 Status: OK PackageFile: NxtIRFdata_1.14.0.tar.gz PackageFileSize: 317.9 KiB