Package: Neve2006 Version: 0.46.0 Command: /home/biocbuild/bbs-3.21-bioc/R/bin/R CMD INSTALL Neve2006 StartedAt: 2025-09-30 10:57:36 -0400 (Tue, 30 Sep 2025) EndedAt: 2025-09-30 10:57:53 -0400 (Tue, 30 Sep 2025) EllapsedTime: 17.0 seconds RetCode: 0 Status: OK