Package: NetActivityData Version: 1.10.0 Command: /home/biocbuild/bbs-3.21-bioc/R/bin/R CMD check --install=check:NetActivityData.install-out.txt --library=/home/biocbuild/bbs-3.21-bioc/R/site-library --timings NetActivityData_1.10.0.tar.gz StartedAt: 2025-09-30 12:41:41 -0400 (Tue, 30 Sep 2025) EndedAt: 2025-09-30 12:42:14 -0400 (Tue, 30 Sep 2025) EllapsedTime: 33.6 seconds RetCode: 0 Status: OK CheckDir: NetActivityData.Rcheck Warnings: 0