Package: NestLink Version: 1.24.0 Command: /home/biocbuild/bbs-3.21-bioc/R/bin/R CMD INSTALL NestLink StartedAt: 2025-10-16 11:04:05 -0400 (Thu, 16 Oct 2025) EndedAt: 2025-10-16 11:04:39 -0400 (Thu, 16 Oct 2025) EllapsedTime: 34.1 seconds RetCode: 0 Status: OK