Package: NestLink Version: 1.24.0 Command: /home/biocbuild/bbs-3.21-bioc/R/bin/R CMD build --keep-empty-dirs --no-resave-data NestLink StartedAt: 2025-10-16 11:30:55 -0400 (Thu, 16 Oct 2025) EndedAt: 2025-10-16 11:34:58 -0400 (Thu, 16 Oct 2025) EllapsedTime: 243.7 seconds RetCode: 0 Status: OK PackageFile: NestLink_1.24.0.tar.gz PackageFileSize: 6.452 MiB