Package: NanoporeRNASeq Version: 1.18.0 Command: /home/biocbuild/bbs-3.21-bioc/R/bin/R CMD INSTALL NanoporeRNASeq StartedAt: 2025-10-02 10:57:13 -0400 (Thu, 02 Oct 2025) EndedAt: 2025-10-02 10:57:22 -0400 (Thu, 02 Oct 2025) EllapsedTime: 8.6 seconds RetCode: 0 Status: OK