Package: MetaScope Version: 1.8.1 Command: /home/biocbuild/bbs-3.21-bioc/R/bin/R CMD check --install=check:MetaScope.install-out.txt --library=/home/biocbuild/bbs-3.21-bioc/R/site-library --timings MetaScope_1.8.1.tar.gz StartedAt: 2025-10-09 12:34:43 -0400 (Thu, 09 Oct 2025) EndedAt: 2025-10-09 12:46:02 -0400 (Thu, 09 Oct 2025) EllapsedTime: 678.9 seconds RetCode: 0 Status: OK CheckDir: MetaScope.Rcheck Warnings: 0