Package: MAQCsubset Version: 1.46.0 Command: /home/biocbuild/bbs-3.21-bioc/R/bin/R CMD INSTALL MAQCsubset StartedAt: 2025-09-30 11:04:15 -0400 (Tue, 30 Sep 2025) EndedAt: 2025-09-30 11:05:08 -0400 (Tue, 30 Sep 2025) EllapsedTime: 53.6 seconds RetCode: 0 Status: OK