Package: KOdata Version: 1.34.0 Command: /home/biocbuild/bbs-3.21-bioc/R/bin/R CMD INSTALL KOdata StartedAt: 2025-10-16 10:55:19 -0400 (Thu, 16 Oct 2025) EndedAt: 2025-10-16 10:55:38 -0400 (Thu, 16 Oct 2025) EllapsedTime: 18.6 seconds RetCode: 0 Status: OK