Package: Iyer517 Version: 1.50.0 Command: /home/biocbuild/bbs-3.21-bioc/R/bin/R CMD INSTALL Iyer517 StartedAt: 2025-10-07 10:56:04 -0400 (Tue, 07 Oct 2025) EndedAt: 2025-10-07 10:56:07 -0400 (Tue, 07 Oct 2025) EllapsedTime: 3.3 seconds RetCode: 0 Status: OK