Package: Iyer517 Version: 1.50.0 Command: /home/biocbuild/bbs-3.21-bioc/R/bin/R CMD build --keep-empty-dirs --no-resave-data Iyer517 StartedAt: 2025-10-07 11:23:44 -0400 (Tue, 07 Oct 2025) EndedAt: 2025-10-07 11:23:51 -0400 (Tue, 07 Oct 2025) EllapsedTime: 7.0 seconds RetCode: 0 Status: OK PackageFile: Iyer517_1.50.0.tar.gz PackageFileSize: 408 KiB