Package: IlluminaDataTestFiles Version: 1.46.0 Command: /home/biocbuild/bbs-3.21-bioc/R/bin/R CMD build --keep-empty-dirs --no-resave-data IlluminaDataTestFiles StartedAt: 2025-10-02 11:24:26 -0400 (Thu, 02 Oct 2025) EndedAt: 2025-10-02 11:24:30 -0400 (Thu, 02 Oct 2025) EllapsedTime: 3.3 seconds RetCode: 0 Status: OK PackageFile: IlluminaDataTestFiles_1.46.0.tar.gz PackageFileSize: 23.69 MiB