Package: Illumina450ProbeVariants.db Version: 1.44.0 Command: /home/biocbuild/bbs-3.21-bioc/R/bin/R CMD INSTALL Illumina450ProbeVariants.db StartedAt: 2025-10-02 10:55:09 -0400 (Thu, 02 Oct 2025) EndedAt: 2025-10-02 10:55:13 -0400 (Thu, 02 Oct 2025) EllapsedTime: 3.9 seconds RetCode: 0 Status: OK