Package: Illumina450ProbeVariants.db Version: 1.44.0 Command: /home/biocbuild/bbs-3.21-bioc/R/bin/R CMD build --keep-empty-dirs --no-resave-data Illumina450ProbeVariants.db StartedAt: 2025-10-02 11:24:23 -0400 (Thu, 02 Oct 2025) EndedAt: 2025-10-02 11:24:26 -0400 (Thu, 02 Oct 2025) EllapsedTime: 3.0 seconds RetCode: 0 Status: OK PackageFile: Illumina450ProbeVariants.db_1.44.0.tar.gz PackageFileSize: 6.414 MiB