Package: HelloRangesData Version: 1.34.0 Command: /home/biocbuild/bbs-3.21-bioc/R/bin/R CMD INSTALL HelloRangesData StartedAt: 2025-09-25 10:55:50 -0400 (Thu, 25 Sep 2025) EndedAt: 2025-09-25 10:55:56 -0400 (Thu, 25 Sep 2025) EllapsedTime: 6.7 seconds RetCode: 0 Status: OK