Package: HarmanData Version: 1.36.0 Command: /home/biocbuild/bbs-3.21-bioc/R/bin/R CMD INSTALL HarmanData StartedAt: 2025-10-02 10:55:32 -0400 (Thu, 02 Oct 2025) EndedAt: 2025-10-02 10:55:48 -0400 (Thu, 02 Oct 2025) EllapsedTime: 15.9 seconds RetCode: 0 Status: OK