Package: HEEBOdata Version: 1.46.0 Command: /home/biocbuild/bbs-3.21-bioc/R/bin/R CMD build --keep-empty-dirs --no-resave-data HEEBOdata StartedAt: 2025-09-25 11:22:10 -0400 (Thu, 25 Sep 2025) EndedAt: 2025-09-25 11:22:16 -0400 (Thu, 25 Sep 2025) EllapsedTime: 5.6 seconds RetCode: 0 Status: OK PackageFile: HEEBOdata_1.46.0.tar.gz PackageFileSize: 8.269 MiB