Package: HDCytoData Version: 1.28.0 Command: /home/biocbuild/bbs-3.21-bioc/R/bin/R CMD INSTALL HDCytoData StartedAt: 2025-09-30 11:04:46 -0400 (Tue, 30 Sep 2025) EndedAt: 2025-09-30 11:05:13 -0400 (Tue, 30 Sep 2025) EllapsedTime: 27.7 seconds RetCode: 0 Status: OK