Package: HDCytoData Version: 1.28.0 Command: /home/biocbuild/bbs-3.21-bioc/R/bin/R CMD build --keep-empty-dirs --no-resave-data HDCytoData StartedAt: 2025-09-30 11:21:30 -0400 (Tue, 30 Sep 2025) EndedAt: 2025-09-30 11:23:43 -0400 (Tue, 30 Sep 2025) EllapsedTime: 133.0 seconds RetCode: 0 Status: OK PackageFile: HDCytoData_1.28.0.tar.gz PackageFileSize: 1.543 MiB